Workbook

Sheet STS_Non-ABCP
A1: Field code | B1: FSD reference | C1: RTS field code | D1: Mandatory/Conditional/Optional | E1: Field name | F1: Box to complete | G1: Field format | H1: Field description | I1: Technical guidance | J1: RTS field name | K1: RTS Content to be reported | L1: Background informatioin: Article of regulation (EU) 2017/2402 | M1: Background information: applicable explanation type for this field | N1: Background information: Article of Regulation (EU) 2019/980 | O1: CHECK | P1: MAX_LENGHT | Q1: Type | R1: LENGTH | S1: N/A | T1: IS BLANK | U1: ISERROR | V1: CHECK_RESULT | W1: ACCEPTED_CHARACTERS | X1: Multiple STS notifications | Y1: STSS32-STSAT29 | Z1: Securitisation type | AA1: Derivatives | AB1: STSS10 & STSAT10 | AC1: Competent authority supervising compliance of third parties with Art. 28 of SECR | AD1: Applicable/Not Applicable | AE1: Confirmed or Unconfirmed | AF1: Yes or No | AG1: Countrycodes | AH1: Securitisation Repository name | AI1: Type of Transfer | AJ1: STSS61
A2: NPU0 | B2: N0 | C2: STSS3 | D2: C | E2: STS notification identifier | F2: 5299002W4PL3XPN90376N201601 | G2: {NOTIFICATION ID} | H2: The unique identifier as assigned by ESMA to the previously notified STS notification. | I2: STS notification identifier for STS notifications reported before the release of the new ESMA Register of STS notifications. This field should be the same as the entry in STSS4 - Securitisation unique identifier. In the exceptional case of STS notifications on securitisations for which multiple STS notifications were submitted by different reporting entities on the same securitisation identifier - STSS4 - Securitisation unique identifier (as it may be the case for master trust securitisations or ABCP transactions with multiple sponsors), this field should contain the unique identifier of the STS notification as assigned by ESMA (STSS4 - Securitisation unique identifier suffixed by a 2-digits classification code). This field should be left blank otherwise. | J2: Notification identifier | K2: Where reporting an update, the unique reference number assigned by ESMA to the previously notified STS notification. | L2: N/A | M2: General Information | O2: =IF(LEFT(U2,6)="FORMAT","FMT",IF(AND(E2="Designated Entity LEI",ISBLANK(F2)=FALSE,ISNUMBER(SEARCH(F2,F$8))=FALSE,ISNUMBER(SEARCH(F2,F$11))=FALSE),"DE",IF(AND(C2="STSS1",OR(AND(E2="Instrument ISIN",ISBLANK(F2)=TRUE,ISBLANK(F3)=TRUE,ISBLANK(F4)=TRUE),AND(E2="Instrument code",ISBLANK(F2)=TRUE,ISBLANK(F1)=TRUE,ISBLANK(F$5)=TRUE),AND(E2="Instrument code type",ISBLANK(F2)=TRUE,ISBLANK(F3)=TRUE,ISBLANK(F1)=TRUE),AND(E2="Instrument code",ISBLANK(F2)=TRUE,ISBLANK(F1)=FALSE),AND(E2="Instrument code type",ISBLANK(F2)=FALSE,ISBLANK(F3)=TRUE))),"S1",IF(AND(C2="STSS8",OR(AND(OR(E2="Sponsor country",E2="Originator country",E2="SSPE country",E2="Original Lender country"),ISBLANK(F3)=FALSE,ISBLANK(F2)=FALSE),AND(RIGHT(E2,23)="(if multiple countries)",ISBLANK(F1)=FALSE,ISBLANK(F2)=FALSE),AND(OR(E2="Sponsor country",E2="Originator country",E2="Original Lender country"),ISBLANK(F3)=TRUE,ISBLANK(F2)=TRUE,ISBLANK(F1)=FALSE))),"S8",IF(AND(C2="STSS5",OR(AND(E2="Exemption on Prospectus",ISBLANK(F2)=TRUE,ISBLANK(F1)=TRUE,ISBLANK(F$23)=TRUE,F$3="Public"),AND(E2="Prospectus Country",ISBLANK(F2)=TRUE,ISBLANK(F3)=TRUE,ISBLANK(F4)=TRUE,F$3="Public"),AND(E2="Prospectus identifier ",ISBLANK(F2)=TRUE,ISBLANK(F3)=TRUE,ISBLANK(F1)=TRUE,F$3="Public"),AND(E2="Exemption on Prospectus",ISBLANK(F2)=FALSE,ISBLANK(F1)=FALSE,ISBLANK(F$23)=FALSE),AND(E2="Prospectus Country",ISBLANK(F2)=FALSE,ISBLANK(F3)=FALSE,ISBLANK(F4)=FALSE),AND(E2="Prospectus identifier ",ISBLANK(F2)=FALSE,ISBLANK(F1)=FALSE,ISBLANK(F1)=FALSE),AND(E2="Prospectus Country",ISBLANK(F2)=FALSE,ISBLANK(F3)=TRUE),AND(E2="Prospectus identifier",ISBLANK(F2)=FALSE,ISBLANK(F1)=TRUE),AND(E2="Prospectus Country",ISBLANK(F2)=TRUE,ISBLANK(F3)=FALSE),AND(E2="Prospectus identifier",ISBLANK(F2)=TRUE,ISBLANK(F1)=FALSE),AND(E2="Prospectus identifier",ISBLANK(F2)=FALSE,ISBLANK(F3)=FALSE,F$3="Public"),AND(E2="Prospectus Country",ISBLANK(F2)=FALSE,ISBLANK(F4)=FALSE,F$3="Public"))),"S5",IF(AND(C2="STSS6",E2="Securitisation Repository name",ISBLANK(F2)=TRUE,F$3="Public"),"S6",IF(AND(C2="STSS12",OR(AND(S2<>"",S2>TODAY()+1))),"S12",IF(AND(C2="STSS13",OR(AND(F$32="N",E$32="Authorised Third party flag",E2<>"Authorised Third party flag",ISBLANK(F2)=FALSE),AND(F$32="Y",E$32="Authorised Third party flag",E2<>"Authorised Third party flag",ISBLANK(F2)=TRUE))),"S13",IF(AND(C2="STSS14",OR(AND(E$32="Authorised Third party flag",E2<>"Authorised Third party flag",F$32="N",ISBLANK(F2)=FALSE),AND(E$32="Authorised Third party flag",E2<>"Authorised Third party flag",F$32="Y",ISBLANK(F2)=TRUE),AND(E$32="Authorised Third party flag",E2<>"Authorised Third party flag",F$32="N",ISBLANK(F2)=FALSE),AND(E$32="Authorised Third party flag",E2<>"Authorised Third party flag",F$32="Y",ISBLANK(F2)=TRUE))),"S14",IF(AND(C2="STSS15",OR(AND(E$32="Authorised Third party flag",F$32="N",E2<>"Authorised Third party flag",ISBLANK(F2)=FALSE),AND(E2<>"Authorised Third party flag",E$32="Authorised Third party flag",F$32="Y",ISBLANK(F2)=TRUE),AND(RIGHT(E2,11)="t Authority",E$32="Authorised Third party flag",F$32="N",ISBLANK(F2)=FALSE))),"S15",IF(AND(C2="STSS4",OR(AND(E2="Multiple STS notifications reason",ISBLANK(F2)=TRUE,F1="Y"),AND(E2="Multiple STS notifications comment",ISBLANK(F2)=TRUE,F$20="Y"),AND(E2="Multiple STS notifications reason",ISBLANK(F2)=FALSE,F1="N"),AND(E2="Multiple STS notifications comment",ISBLANK(F2)=FALSE,F$20="N"))),"Trust",IF(OR(AND(RIGHT(G2,7)="ed/N/A}",F2<>"Confirmed",F2<>"Unconfirmed",F2<>"N/A"),AND(G2="{Confirmed/Unconfirmed}",F2<>"Confirmed",F2<>"Unconfirmed")),"lst",IF(AND(RIGHT(G1,7)="ed/N/A}",C2<>"STSS61",C2<>"STSS23",F1<>"N/A",ISBLANK(F2)=TRUE,D2="C"),"CND",IF(AND(F2="Unconfirmed",C2<>"STSS32"),"UCF",IF(AND(C2="STSS21",E2="Subject to severe clawback",F2="Y"),"S21",IF(AND(C2="STSS23",OR(AND(E1="The seller is not the original lender flag",F2="N/A",F1="Y"),AND(E1="The seller is not the original lender flag",F2<>"N/A",F1="N"),AND(E$48="The seller is not the original lender flag",ISBLANK(F2)=TRUE,F$48="Y"))),"S23",IF(AND(C2="STSS32",OR(AND(E2="Payment exemption",F$77="Unconfirmed",OR(F2="N/A",F2="No exemption",ISBLANK(F2)=TRUE)),AND(E2="Payment exemption",ISBLANK(F2)=FALSE,F$77="Confirmed"))),"S32",IF(AND(C2="STSS18",OR(AND(E2="Credit granting criteria compliance confirmation",F2<>"N/A",F1="N"),AND(E2="Credit granting criteria compliance confirmation",OR(ISBLANK(F2)=TRUE,F2="N/A"),F1="Y"))),"S18",IF(AND(C2="STSS19",OR(AND(F2<>"N/A",F$37="N",E2="Credit granting criteria supervision confirmation"),AND(OR(ISBLANK(F2)=TRUE,F2="N/A"),F$37="Y",E2="Credit granting criteria supervision confirmation"))),"S19",IF(AND(C2="STSS29",OR(AND(E2="Residential Loan requirement confirmation",F2<>"N/A",F$29<>"residential mortgages"),AND(E2="Residential Loan requirement confirmation",F2="N/A",F$29="residential mortgages"))),"S29",IF(AND(C2="STSS34",OR(AND(D2="C",E2="Other options used comment",F1="Y",ISBLANK(F2)=TRUE),AND(E2="Other options used comment",F1="N",D2="C",ISBLANK(F2)=FALSE),AND(E2="No compliance with risk retention requirements",F2="Y"),AND(E2="Vertical slice",F2="N",F3="N",F4="N",F5="N",F6="N",F7="N",F8="N"),AND(E2="Seller's share",F2="N",F3="N",F4="N",F5="N",F6="N",F7="N",F$87="N"),AND(E2="Randomly-selected exposures kept on balance sheet",F2="N",F3="N",F4="N",F5="N",F6="N",F$87="N",F$88="N"),AND(E2="First loss tranche",F2="N",F3="N",F4="N",F5="N",F$87="N",F$88="N",F$89="N"),AND(E2="First loss exposure in each asset indicator",F2="N",F3="N",F4="N",F$87="N",F$88="N",F$89="N",F$90="N"),AND(E2="No compliance with risk retention requirements",F2="N",F3="N",F$87="N",F$88="N",F$89="N",F$90="N",F$91="N"),AND(E2="Other option indicator",F2="N",F$87="N",F$88="N",F$89="N",F$90="N",F$91="N",F$92="N"),AND(E2="Retaining entity LEI",ISBLANK(F2)=TRUE,ISBLANK(F3)=TRUE),AND(E2="Retaining entity name",ISBLANK(F2)=TRUE,ISBLANK(F1)=TRUE))),"S34",IF(AND(C2="STSS37",OR(AND(F2="N/A",E2="Common standards underwriting derivatives confirmation",F$97<>"No derivatives"),AND(F2<>"N/A",E2="Common standards underwriting derivatives confirmation",F$97="No derivatives"))),"S37",IF(AND(C2="STSS44",F2="N/A",E2="Credit quality deterioration trigger confirmation",F$113="Confirmed"),"S44",IF(OR(AND(C2="STSS46",F2<>"N/A",E2="Credit quality deterioration trigger confirmation",F$119="N/A"),AND(C2="STSS46",F2="N/A",E2="Credit quality deterioration trigger confirmation",F$119<>"N/A")),"S46",IF(OR(AND(C2="STSS47",F2<>"N/A",E2="Insolvency-related event confirmation",F$119="N/A"),AND(C2="STS47",F2="N/A",E2="Insolvency-related event confirmation",F$119<>"N/A")),"S47",IF(OR(AND(C2="STSS48",F2<>"N/A",E2="Pre-determined threshold value confirmation",F$119="N/A"),AND(C2="STSS48",F2="N/A",E2="Pre-determined threshold value confirmation",F$119<>"N/A")),"S48",IF(OR(AND(C2="STSS49",F2<>"N/A",E2="New underlying exposures failure generation confirmation",F$119="N/A"),AND(C2="STSS49",F2="N/A",E2="New underlying exposures failure generation confirmation",F$119<>"N/A")),"S49",IF(AND(C2="STSS61",OR(AND(OR(F$29="residential mortgages",F$29="auto loans/leases"),F2="Not available",E2="Environmental performance availability"),AND(OR(F$29="residential mortgages",F$29="auto loans/leases"),F2="N/A",E2="Environmental performance availability"),AND(F$29<>"residential mortgages",F$29<>"auto loans/leases",F2<>"N/A",E2="Environmental performance availability"),AND(E2="Environmental performance explanation",F1="Available",ISBLANK(F2)=TRUE))),"S61",1)))))))))))))))))))))))))))) -> 1 | P2: 35 | Q2: =IF(AND(E2="Last notification date",MONTH(TODAY())>9,DAY(TODAY())>9),YEAR(TODAY())&"-"&MONTH(TODAY())&"-"&DAY(TODAY()),IF(AND(E2="Last notification date",MONTH(TODAY())<9,DAY(TODAY())<10),YEAR(TODAY())&"-0"&MONTH(TODAY())&"-0"&DAY(TODAY()),IF(AND(E2="Last notification date",MONTH(TODAY())>9,DAY(TODAY())<10),YEAR(TODAY())&"-"&MONTH(TODAY())&"-0"&DAY(TODAY()),IF(AND(E2="Last notification date",MONTH(TODAY())<10,DAY(TODAY())>9),YEAR(TODAY())&"-0"&MONTH(TODAY())&"-"&DAY(TODAY()),IF(LEFT(G2,4)="{SEC","SEC ID",IF(LEFT(G2,4)="{DAT","DATE",IF(LEFT(G2,4)="{TEX",Val!B$21,IF(LEFT(G2,4)="{ALP",Val!B$20,IF(LEFT(G2,4)="{COU",Val!B$20,IF(OR(LEFT(G2,4)="{ISI",LEFT(G2,4)="{LEI"),Val!B$17,IF(OR(LEFT(G2,4)="{CA_",LEFT(G2,4)="{Mas",LEFT(G2,4)="{Y/N",LEFT(G2,4)="{No ",LEFT(G2,4)="{N/A",LEFT(G2,4)="{Con",LEFT(G2,4)="{LIS"),"LIST",""))))))))))) | R2: =LEN(F2) -> 27 | S2: =IF(ISERROR(DATEVALUE(F2))=TRUE,"",DATEVALUE(F2)) | T2: =IF(AND(D2="M",ISBLANK(F2)=TRUE),"EMPTY",IF(AND(D2<>"M",ISBLANK(F2)=TRUE),"BLANK","UNK")) -> UNK | U2: {=IF(AND(E2="Payment exemption explanation",ISBLANK(F2)=FALSE,F$77="Confirmed"),"FORMAT",IF(AND(E2="Historical Default and Loss Performance Data location",F$3="Public",ISBLANK(F2)=TRUE),"FORMAT",IF(AND(E1="Subject to severe clawback",F1="Y",ISBLANK(F2)=TRUE),"FORMAT",IF(AND(E1="Subject to severe clawback",F1="N",ISBLANK(F2)=FALSE),"FORMAT",IF(AND(OR(E2="Credit granting criteria supervision comment",E2="Credit granting criteria compliance comment"),ISBLANK(F2)=FALSE,OR(AND(F$34="N",E397="Originator (or original lender) is not a Credit institution"),AND(F$37="N",E$37="Originator (or original lender) is not a Credit institution"))),"FORMAT_S17",IF(AND(C2="STSS60",E2="Location of Liability cash flow model",ISBLANK(F2)=TRUE,F$3="Public"),"FORMAT_S60",IF(AND(C2="STSS58",E2="Historical Default and Loss Performance Data location",ISBLANK(F2)=TRUE,F$3="Public"),"FORMAT_S37",IF(AND(E2="Sponsor LEI",ISBLANK(F2)=TRUE,ISBLANK(F$8)=TRUE),"FORMAT_LEI",IF(AND(E2="Originator LEI",ISBLANK(F2)=TRUE,ISBLANK(F$11)=TRUE),"FORMAT_LEI",IF(OR(T2="EMPTY",P2+1<LEN(F2),AND(G1="{Confirmed/Unconfirmed/N/A}",S2="N/A",F1="N/A",F2<>"")),"FORMAT",IF(OR(AND(E2="Non-ABCP securitisation unique identifier",MID(F2,21,1)<>"N"),AND(E2="ABCP transaction unique identifier",MID(F2,21,1)<>"T"),AND(E2="ABCP programme unique identifier",MID(F2,21,1)<>"P")),"FORMAT_SEC_ID",IF(AND(E2="Underlying exposures classification",F2<>"residential mortgages",F2<>"commercial mortgages",F2<>"credit facilities provided to individuals for personal, family or household consumption purposes",F2<>"credit facilities, including loans and leases, provided to any type of enterprise or corporation",F2<>"auto loans/leases",F2<>"credit-card receivables",F2<>"trade receivables",F2<>"others"),"FORMAT_LIST",IF(AND(E2="Instrument code",LEN(F2)-LEN(SUBSTITUTE(F2,";",""))<>LEN(F1)-LEN(SUBSTITUTE(F1,";",""))),"FORMAT_;",IF(AND(E2="Sponsor country (if multiple countries)",LEN(F2)-LEN(SUBSTITUTE(F2,";",""))<>LEN(F$11)-LEN(SUBSTITUTE(F$11,";",""))),"FORMAT_;",IF(AND(E2="Sponsor country (if multiple countries)",ISBLANK(F2)=FALSE,LEN(F2)-LEN(SUBSTITUTE(F2,";",""))=0),"FORMAT_;",IF(AND(E2="Sponsor country (if multiple countries)",ISBLANK(F2)=TRUE,LEN(F$11)-LEN(SUBSTITUTE(F$11,";",""))<>0),"FORMAT_;",IF(AND(E2="Originator country (if multiple countries)",LEN(F2)-LEN(SUBSTITUTE(F2,";",""))<>0,ISBLANK(F2)=FALSE,LEN(F2)-LEN(SUBSTITUTE(F2,";",""))<>LEN(F$8)-LEN(SUBSTITUTE(F$8,";",""))),"FORMAT_;",IF(AND(E2="Originator country (if multiple countries)",ISBLANK(F2)=FALSE,LEN(F2)-LEN(SUBSTITUTE(F2,";",""))=0),"FORMAT_;",IF(AND(E2="Originator country (if multiple countries)",ISBLANK(F2)=TRUE,LEN(F$8)-LEN(SUBSTITUTE(F$8,";",""))<>0),"FORMAT_;",IF(AND(E2="Original lender country (if multiple countries)",ISBLANK(F2)=FALSE,LEN(F2)-LEN(SUBSTITUTE(F2,";",""))<>0,LEN(F2)-LEN(SUBSTITUTE(F2,";",""))<>LEN(F$14)-LEN(SUBSTITUTE(F$14,";",""))),"FORMAT_;",IF(AND(E2="Original lender country (if multiple countries)",ISBLANK(F2)=TRUE,LEN(F$14)-LEN(SUBSTITUTE(F$14,";",""))<>0),"FORMAT_;",IF(AND(E2="Original lender country (if multiple countries)",ISBLANK(F2)=FALSE,LEN(F2)-LEN(SUBSTITUTE(F2,";",""))=0),"FORMAT_;",IF(OR(AND(E2="Designated Entity LEI",LEN(F2)<>20),AND(G2="{LEI}",LEN(F2)<>0,LEN(F2)<20),AND(G2="{ISIN}",LEN(F2)<>0,LEN(F2)<12),AND(LEN(F2)<>20,E2="Retaining entity LEI",ISBLANK(F2)=FALSE),AND(E2="Instrument ISIN",ISBLANK(F2)=FALSE,LEN(F2)>0,LEN(F2)<11),AND(D2="M",LEFT(G2,4)="{DAT",LEN(F2)<>10)),"FORMAT_LEN",IF(OR(AND(F2<>"",LEFT(G2,4)<>"{TEX",ISNUMBER(SUMPRODUCT(FIND(MID(F2,ROW(INDIRECT("1:"&LEN(F2))),1),W2)))=FALSE),AND(F2<>"",LEFT(G2,4)<>"{TEX",ISERROR(SUMPRODUCT(SEARCH(MID(F2,ROW(INDIRECT("1:"&LEN(TRIM(F2)))),1)," "&W2&CHAR(10)&"""")))=TRUE)),"FORMAT_CHAR",IF(LEFT(G2,4)="{TEX","TEXT","UNK")))))))))))))))))))))))))} -> UNK | V2: {=IF(OR(LEN(F2)>P2+1),FALSE,IF(LEFT(G2,5)="{TEXT",TRUE,IF(AND(ISBLANK(F2)=FALSE,G2="{DATE_TEXT-YYYY-MM-DD}",LEN(F2)<>10),FALSE,IF(AND(ISBLANK(F2)=FALSE,ISNUMBER(SUMPRODUCT(SEARCH(MID(F2,ROW(INDIRECT("1:"&LEN(TRIM(F2)))),1)," "&W2&CHAR(10)&"""")))=FALSE),FALSE,TRUE))))} -> TRUE | W2: =IF(G2="{Applicable/N/A}","N/Aplicable",IF(E2="Designated Entity LEI","ABCDEFGHIJKLMNOPQRSTUVWXYZ0123456789",IF(OR(G2="{ISIN}",G2="{LEI}"),";ABCDEFGHIJKLMNOPQRSTUVWXYZ0123456789",IF(G2="{Master Trust/Other}","Master TuOhe",IF(E2="Securitisation type","Privateublc",IF(LEFT(G2,4)="{CA_",Val!B$21,IF(G2="{COUNTRY_EU_LIST}"," ;abcdefghijklmnopqrstuvwxyzABCDEFGHIJKLMNOPQRSTUVWXYZ0123456789",IF(OR(G2="{NOTIFICATION ID}",G2="{SECURITISATION ID}"),Val!B$15,IF(G2="{COUNTRY_EU}"," ;abcdefghijklmnopqrstuvwxyzABCDEFGHIJKLMNOPQRSTUVWXYZ",IF(G2="{Confirmed/Unconfirmed}","ConfirmedUnc",IF(G2="{Confirmed/Unconfirmed/N/A}","Confirmed/UncNA",IF(LEFT(G2,4)="{DAT","0123456789-",IF(LEFT(G2,4)="{Y/N","YN",IF(OR(LEFT(G2,4)="{N/A",LEFT(G2,4)="{LIS",LEFT(G2,4)="{No ",LEFT(G2,4)="{SEC",LEFT(G2,4)="{Mas"),Val!B$20,IF(LEFT(G2,4)="{TEX",Val!B$21,IF(LEFT(G2,4)="{ALP",Val!B$20,IF(LEFT(G2,4)="{COU",Val!B$20))))))))))))))))) -> ABCDEFGHIJKLMNOPQRSTUVWXYZ0123456789 | X2: Master Trust | Y2: No exemption | Z2: Public | AA2: Unconfirmed | AB2: residential mortgages | AD2: Applicable | AE2: Confirmed | AF2: Y | AH2: European DataWarehouse GmbH | AI2: by means of an assignment | AJ2: Available
A3: NPU1 | B3: N1 | D3: M | E3: Securitisation type | F3: Public | G3: {LIST} | H3: Securitisation type may be 'Public' or 'Private' | I3: Only possible values in Box to complete are "Public" and "Private" Field codes are highlighted in amber if the field is left blank or has errors in format. | J3: Securitisation type | L3: N/A | M3: General Information | O3: =IF(LEFT(U3,6)="FORMAT","FMT",IF(AND(E3="Designated Entity LEI",ISBLANK(F3)=FALSE,ISNUMBER(SEARCH(F3,F$8))=FALSE,ISNUMBER(SEARCH(F3,F$11))=FALSE),"DE",IF(AND(C3="STSS1",OR(AND(E3="Instrument ISIN",ISBLANK(F3)=TRUE,ISBLANK(F4)=TRUE,ISBLANK(F5)=TRUE),AND(E3="Instrument code",ISBLANK(F3)=TRUE,ISBLANK(F2)=TRUE,ISBLANK(F$5)=TRUE),AND(E3="Instrument code type",ISBLANK(F3)=TRUE,ISBLANK(F4)=TRUE,ISBLANK(F2)=TRUE),AND(E3="Instrument code",ISBLANK(F3)=TRUE,ISBLANK(F2)=FALSE),AND(E3="Instrument code type",ISBLANK(F3)=FALSE,ISBLANK(F4)=TRUE))),"S1",IF(AND(C3="STSS8",OR(AND(OR(E3="Sponsor country",E3="Originator country",E3="SSPE country",E3="Original Lender country"),ISBLANK(F4)=FALSE,ISBLANK(F3)=FALSE),AND(RIGHT(E3,23)="(if multiple countries)",ISBLANK(F2)=FALSE,ISBLANK(F3)=FALSE),AND(OR(E3="Sponsor country",E3="Originator country",E3="Original Lender country"),ISBLANK(F4)=TRUE,ISBLANK(F3)=TRUE,ISBLANK(F2)=FALSE))),"S8",IF(AND(C3="STSS5",OR(AND(E3="Exemption on Prospectus",ISBLANK(F3)=TRUE,ISBLANK(F2)=TRUE,ISBLANK(F$23)=TRUE,F$3="Public"),AND(E3="Prospectus Country",ISBLANK(F3)=TRUE,ISBLANK(F4)=TRUE,ISBLANK(F5)=TRUE,F$3="Public"),AND(E3="Prospectus identifier ",ISBLANK(F3)=TRUE,ISBLANK(F4)=TRUE,ISBLANK(F2)=TRUE,F$3="Public"),AND(E3="Exemption on Prospectus",ISBLANK(F3)=FALSE,ISBLANK(F2)=FALSE,ISBLANK(F$23)=FALSE),AND(E3="Prospectus Country",ISBLANK(F3)=FALSE,ISBLANK(F4)=FALSE,ISBLANK(F5)=FALSE),AND(E3="Prospectus identifier ",ISBLANK(F3)=FALSE,ISBLANK(F2)=FALSE,ISBLANK(F2)=FALSE),AND(E3="Prospectus Country",ISBLANK(F3)=FALSE,ISBLANK(F4)=TRUE),AND(E3="Prospectus identifier",ISBLANK(F3)=FALSE,ISBLANK(F2)=TRUE),AND(E3="Prospectus Country",ISBLANK(F3)=TRUE,ISBLANK(F4)=FALSE),AND(E3="Prospectus identifier",ISBLANK(F3)=TRUE,ISBLANK(F2)=FALSE),AND(E3="Prospectus identifier",ISBLANK(F3)=FALSE,ISBLANK(F4)=FALSE,F$3="Public"),AND(E3="Prospectus Country",ISBLANK(F3)=FALSE,ISBLANK(F5)=FALSE,F$3="Public"))),"S5",IF(AND(C3="STSS6",E3="Securitisation Repository name",ISBLANK(F3)=TRUE,F$3="Public"),"S6",IF(AND(C3="STSS12",OR(AND(S3<>"",S3>TODAY()+1))),"S12",IF(AND(C3="STSS13",OR(AND(F$32="N",E$32="Authorised Third party flag",E3<>"Authorised Third party flag",ISBLANK(F3)=FALSE),AND(F$32="Y",E$32="Authorised Third party flag",E3<>"Authorised Third party flag",ISBLANK(F3)=TRUE))),"S13",IF(AND(C3="STSS14",OR(AND(E$32="Authorised Third party flag",E3<>"Authorised Third party flag",F$32="N",ISBLANK(F3)=FALSE),AND(E$32="Authorised Third party flag",E3<>"Authorised Third party flag",F$32="Y",ISBLANK(F3)=TRUE),AND(E$32="Authorised Third party flag",E3<>"Authorised Third party flag",F$32="N",ISBLANK(F3)=FALSE),AND(E$32="Authorised Third party flag",E3<>"Authorised Third party flag",F$32="Y",ISBLANK(F3)=TRUE))),"S14",IF(AND(C3="STSS15",OR(AND(E$32="Authorised Third party flag",F$32="N",E3<>"Authorised Third party flag",ISBLANK(F3)=FALSE),AND(E3<>"Authorised Third party flag",E$32="Authorised Third party flag",F$32="Y",ISBLANK(F3)=TRUE),AND(RIGHT(E3,11)="t Authority",E$32="Authorised Third party flag",F$32="N",ISBLANK(F3)=FALSE))),"S15",IF(AND(C3="STSS4",OR(AND(E3="Multiple STS notifications reason",ISBLANK(F3)=TRUE,F2="Y"),AND(E3="Multiple STS notifications comment",ISBLANK(F3)=TRUE,F$20="Y"),AND(E3="Multiple STS notifications reason",ISBLANK(F3)=FALSE,F2="N"),AND(E3="Multiple STS notifications comment",ISBLANK(F3)=FALSE,F$20="N"))),"Trust",IF(OR(AND(RIGHT(G3,7)="ed/N/A}",F3<>"Confirmed",F3<>"Unconfirmed",F3<>"N/A"),AND(G3="{Confirmed/Unconfirmed}",F3<>"Confirmed",F3<>"Unconfirmed")),"lst",IF(AND(RIGHT(G2,7)="ed/N/A}",C3<>"STSS61",C3<>"STSS23",F2<>"N/A",ISBLANK(F3)=TRUE,D3="C"),"CND",IF(AND(F3="Unconfirmed",C3<>"STSS32"),"UCF",IF(AND(C3="STSS21",E3="Subject to severe clawback",F3="Y"),"S21",IF(AND(C3="STSS23",OR(AND(E2="The seller is not the original lender flag",F3="N/A",F2="Y"),AND(E2="The seller is not the original lender flag",F3<>"N/A",F2="N"),AND(E$48="The seller is not the original lender flag",ISBLANK(F3)=TRUE,F$48="Y"))),"S23",IF(AND(C3="STSS32",OR(AND(E3="Payment exemption",F$77="Unconfirmed",OR(F3="N/A",F3="No exemption",ISBLANK(F3)=TRUE)),AND(E3="Payment exemption",ISBLANK(F3)=FALSE,F$77="Confirmed"))),"S32",IF(AND(C3="STSS18",OR(AND(E3="Credit granting criteria compliance confirmation",F3<>"N/A",F2="N"),AND(E3="Credit granting criteria compliance confirmation",OR(ISBLANK(F3)=TRUE,F3="N/A"),F2="Y"))),"S18",IF(AND(C3="STSS19",OR(AND(F3<>"N/A",F$37="N",E3="Credit granting criteria supervision confirmation"),AND(OR(ISBLANK(F3)=TRUE,F3="N/A"),F$37="Y",E3="Credit granting criteria supervision confirmation"))),"S19",IF(AND(C3="STSS29",OR(AND(E3="Residential Loan requirement confirmation",F3<>"N/A",F$29<>"residential mortgages"),AND(E3="Residential Loan requirement confirmation",F3="N/A",F$29="residential mortgages"))),"S29",IF(AND(C3="STSS34",OR(AND(D3="C",E3="Other options used comment",F2="Y",ISBLANK(F3)=TRUE),AND(E3="Other options used comment",F2="N",D3="C",ISBLANK(F3)=FALSE),AND(E3="No compliance with risk retention requirements",F3="Y"),AND(E3="Vertical slice",F3="N",F4="N",F5="N",F6="N",F7="N",F8="N",F9="N"),AND(E3="Seller's share",F3="N",F4="N",F5="N",F6="N",F7="N",F8="N",F$87="N"),AND(E3="Randomly-selected exposures kept on balance sheet",F3="N",F4="N",F5="N",F6="N",F7="N",F$87="N",F$88="N"),AND(E3="First loss tranche",F3="N",F4="N",F5="N",F6="N",F$87="N",F$88="N",F$89="N"),AND(E3="First loss exposure in each asset indicator",F3="N",F4="N",F5="N",F$87="N",F$88="N",F$89="N",F$90="N"),AND(E3="No compliance with risk retention requirements",F3="N",F4="N",F$87="N",F$88="N",F$89="N",F$90="N",F$91="N"),AND(E3="Other option indicator",F3="N",F$87="N",F$88="N",F$89="N",F$90="N",F$91="N",F$92="N"),AND(E3="Retaining entity LEI",ISBLANK(F3)=TRUE,ISBLANK(F4)=TRUE),AND(E3="Retaining entity name",ISBLANK(F3)=TRUE,ISBLANK(F2)=TRUE))),"S34",IF(AND(C3="STSS37",OR(AND(F3="N/A",E3="Common standards underwriting derivatives confirmation",F$97<>"No derivatives"),AND(F3<>"N/A",E3="Common standards underwriting derivatives confirmation",F$97="No derivatives"))),"S37",IF(AND(C3="STSS44",F3="N/A",E3="Credit quality deterioration trigger confirmation",F$113="Confirmed"),"S44",IF(OR(AND(C3="STSS46",F3<>"N/A",E3="Credit quality deterioration trigger confirmation",F$119="N/A"),AND(C3="STSS46",F3="N/A",E3="Credit quality deterioration trigger confirmation",F$119<>"N/A")),"S46",IF(OR(AND(C3="STSS47",F3<>"N/A",E3="Insolvency-related event confirmation",F$119="N/A"),AND(C3="STS47",F3="N/A",E3="Insolvency-related event confirmation",F$119<>"N/A")),"S47",IF(OR(AND(C3="STSS48",F3<>"N/A",E3="Pre-determined threshold value confirmation",F$119="N/A"),AND(C3="STSS48",F3="N/A",E3="Pre-determined threshold value confirmation",F$119<>"N/A")),"S48",IF(OR(AND(C3="STSS49",F3<>"N/A",E3="New underlying exposures failure generation confirmation",F$119="N/A"),AND(C3="STSS49",F3="N/A",E3="New underlying exposures failure generation confirmation",F$119<>"N/A")),"S49",IF(AND(C3="STSS61",OR(AND(OR(F$29="residential mortgages",F$29="auto loans/leases"),F3="Not available",E3="Environmental performance availability"),AND(OR(F$29="residential mortgages",F$29="auto loans/leases"),F3="N/A",E3="Environmental performance availability"),AND(F$29<>"residential mortgages",F$29<>"auto loans/leases",F3<>"N/A",E3="Environmental performance availability"),AND(E3="Environmental performance explanation",F2="Available",ISBLANK(F3)=TRUE))),"S61",1)))))))))))))))))))))))))))) -> 1 | P3: 7 | Q3: =IF(AND(E3="Last notification date",MONTH(TODAY())>9,DAY(TODAY())>9),YEAR(TODAY())&"-"&MONTH(TODAY())&"-"&DAY(TODAY()),IF(AND(E3="Last notification date",MONTH(TODAY())<9,DAY(TODAY())<10),YEAR(TODAY())&"-0"&MONTH(TODAY())&"-0"&DAY(TODAY()),IF(AND(E3="Last notification date",MONTH(TODAY())>9,DAY(TODAY())<10),YEAR(TODAY())&"-"&MONTH(TODAY())&"-0"&DAY(TODAY()),IF(AND(E3="Last notification date",MONTH(TODAY())<10,DAY(TODAY())>9),YEAR(TODAY())&"-0"&MONTH(TODAY())&"-"&DAY(TODAY()),IF(LEFT(G3,4)="{SEC","SEC ID",IF(LEFT(G3,4)="{DAT","DATE",IF(LEFT(G3,4)="{TEX",Val!B$21,IF(LEFT(G3,4)="{ALP",Val!B$20,IF(LEFT(G3,4)="{COU",Val!B$20,IF(OR(LEFT(G3,4)="{ISI",LEFT(G3,4)="{LEI"),Val!B$17,IF(OR(LEFT(G3,4)="{CA_",LEFT(G3,4)="{Mas",LEFT(G3,4)="{Y/N",LEFT(G3,4)="{No ",LEFT(G3,4)="{N/A",LEFT(G3,4)="{Con",LEFT(G3,4)="{LIS"),"LIST",""))))))))))) -> LIST | R3: =LEN(F3) -> 6 | S3: =IF(ISERROR(DATEVALUE(F3))=TRUE,"",DATEVALUE(F3)) | T3: =IF(AND(D3="M",ISBLANK(F3)=TRUE),"EMPTY",IF(AND(D3<>"M",ISBLANK(F3)=TRUE),"BLANK","UNK")) -> UNK | U3: {=IF(AND(E3="Payment exemption explanation",ISBLANK(F3)=FALSE,F$77="Confirmed"),"FORMAT",IF(AND(E3="Historical Default and Loss Performance Data location",F$3="Public",ISBLANK(F3)=TRUE),"FORMAT",IF(AND(E2="Subject to severe clawback",F2="Y",ISBLANK(F3)=TRUE),"FORMAT",IF(AND(E2="Subject to severe clawback",F2="N",ISBLANK(F3)=FALSE),"FORMAT",IF(AND(OR(E3="Credit granting criteria supervision comment",E3="Credit granting criteria compliance comment"),ISBLANK(F3)=FALSE,OR(AND(F$34="N",E398="Originator (or original lender) is not a Credit institution"),AND(F$37="N",E$37="Originator (or original lender) is not a Credit institution"))),"FORMAT_S17",IF(AND(C3="STSS60",E3="Location of Liability cash flow model",ISBLANK(F3)=TRUE,F$3="Public"),"FORMAT_S60",IF(AND(C3="STSS58",E3="Historical Default and Loss Performance Data location",ISBLANK(F3)=TRUE,F$3="Public"),"FORMAT_S37",IF(AND(E3="Sponsor LEI",ISBLANK(F3)=TRUE,ISBLANK(F$8)=TRUE),"FORMAT_LEI",IF(AND(E3="Originator LEI",ISBLANK(F3)=TRUE,ISBLANK(F$11)=TRUE),"FORMAT_LEI",IF(OR(T3="EMPTY",P3+1<LEN(F3),AND(G2="{Confirmed/Unconfirmed/N/A}",S3="N/A",F2="N/A",F3<>"")),"FORMAT",IF(OR(AND(E3="Non-ABCP securitisation unique identifier",MID(F3,21,1)<>"N"),AND(E3="ABCP transaction unique identifier",MID(F3,21,1)<>"T"),AND(E3="ABCP programme unique identifier",MID(F3,21,1)<>"P")),"FORMAT_SEC_ID",IF(AND(E3="Underlying exposures classification",F3<>"residential mortgages",F3<>"commercial mortgages",F3<>"credit facilities provided to individuals for personal, family or household consumption purposes",F3<>"credit facilities, including loans and leases, provided to any type of enterprise or corporation",F3<>"auto loans/leases",F3<>"credit-card receivables",F3<>"trade receivables",F3<>"others"),"FORMAT_LIST",IF(AND(E3="Instrument code",LEN(F3)-LEN(SUBSTITUTE(F3,";",""))<>LEN(F2)-LEN(SUBSTITUTE(F2,";",""))),"FORMAT_;",IF(AND(E3="Sponsor country (if multiple countries)",LEN(F3)-LEN(SUBSTITUTE(F3,";",""))<>LEN(F$11)-LEN(SUBSTITUTE(F$11,";",""))),"FORMAT_;",IF(AND(E3="Sponsor country (if multiple countries)",ISBLANK(F3)=FALSE,LEN(F3)-LEN(SUBSTITUTE(F3,";",""))=0),"FORMAT_;",IF(AND(E3="Sponsor country (if multiple countries)",ISBLANK(F3)=TRUE,LEN(F$11)-LEN(SUBSTITUTE(F$11,";",""))<>0),"FORMAT_;",IF(AND(E3="Originator country (if multiple countries)",LEN(F3)-LEN(SUBSTITUTE(F3,";",""))<>0,ISBLANK(F3)=FALSE,LEN(F3)-LEN(SUBSTITUTE(F3,";",""))<>LEN(F$8)-LEN(SUBSTITUTE(F$8,";",""))),"FORMAT_;",IF(AND(E3="Originator country (if multiple countries)",ISBLANK(F3)=FALSE,LEN(F3)-LEN(SUBSTITUTE(F3,";",""))=0),"FORMAT_;",IF(AND(E3="Originator country (if multiple countries)",ISBLANK(F3)=TRUE,LEN(F$8)-LEN(SUBSTITUTE(F$8,";",""))<>0),"FORMAT_;",IF(AND(E3="Original lender country (if multiple countries)",ISBLANK(F3)=FALSE,LEN(F3)-LEN(SUBSTITUTE(F3,";",""))<>0,LEN(F3)-LEN(SUBSTITUTE(F3,";",""))<>LEN(F$14)-LEN(SUBSTITUTE(F$14,";",""))),"FORMAT_;",IF(AND(E3="Original lender country (if multiple countries)",ISBLANK(F3)=TRUE,LEN(F$14)-LEN(SUBSTITUTE(F$14,";",""))<>0),"FORMAT_;",IF(AND(E3="Original lender country (if multiple countries)",ISBLANK(F3)=FALSE,LEN(F3)-LEN(SUBSTITUTE(F3,";",""))=0),"FORMAT_;",IF(OR(AND(E3="Designated Entity LEI",LEN(F3)<>20),AND(G3="{LEI}",LEN(F3)<>0,LEN(F3)<20),AND(G3="{ISIN}",LEN(F3)<>0,LEN(F3)<12),AND(LEN(F3)<>20,E3="Retaining entity LEI",ISBLANK(F3)=FALSE),AND(E3="Instrument ISIN",ISBLANK(F3)=FALSE,LEN(F3)>0,LEN(F3)<11),AND(D3="M",LEFT(G3,4)="{DAT",LEN(F3)<>10)),"FORMAT_LEN",IF(OR(AND(F3<>"",LEFT(G3,4)<>"{TEX",ISNUMBER(SUMPRODUCT(FIND(MID(F3,ROW(INDIRECT("1:"&LEN(F3))),1),W3)))=FALSE),AND(F3<>"",LEFT(G3,4)<>"{TEX",ISERROR(SUMPRODUCT(SEARCH(MID(F3,ROW(INDIRECT("1:"&LEN(TRIM(F3)))),1)," "&W3&CHAR(10)&"""")))=TRUE)),"FORMAT_CHAR",IF(LEFT(G3,4)="{TEX","TEXT","UNK")))))))))))))))))))))))))} -> UNK | V3: {=IF(OR(LEN(F3)>P3+1),FALSE,IF(LEFT(G3,5)="{TEXT",TRUE,IF(AND(ISBLANK(F3)=FALSE,G3="{DATE_TEXT-YYYY-MM-DD}",LEN(F3)<>10),FALSE,IF(AND(ISBLANK(F3)=FALSE,ISNUMBER(SUMPRODUCT(SEARCH(MID(F3,ROW(INDIRECT("1:"&LEN(TRIM(F3)))),1)," "&W3&CHAR(10)&"""")))=FALSE),FALSE,TRUE))))} -> TRUE | W3: =IF(G3="{Applicable/N/A}","N/Aplicable",IF(E3="Designated Entity LEI","ABCDEFGHIJKLMNOPQRSTUVWXYZ0123456789",IF(OR(G3="{ISIN}",G3="{LEI}"),";ABCDEFGHIJKLMNOPQRSTUVWXYZ0123456789",IF(G3="{Master Trust/Other}","Master TuOhe",IF(E3="Securitisation type","Privateublc",IF(LEFT(G3,4)="{CA_",Val!B$21,IF(G3="{COUNTRY_EU_LIST}"," ;abcdefghijklmnopqrstuvwxyzABCDEFGHIJKLMNOPQRSTUVWXYZ0123456789",IF(OR(G3="{NOTIFICATION ID}",G3="{SECURITISATION ID}"),Val!B$15,IF(G3="{COUNTRY_EU}"," ;abcdefghijklmnopqrstuvwxyzABCDEFGHIJKLMNOPQRSTUVWXYZ",IF(G3="{Confirmed/Unconfirmed}","ConfirmedUnc",IF(G3="{Confirmed/Unconfirmed/N/A}","Confirmed/UncNA",IF(LEFT(G3,4)="{DAT","0123456789-",IF(LEFT(G3,4)="{Y/N","YN",IF(OR(LEFT(G3,4)="{N/A",LEFT(G3,4)="{LIS",LEFT(G3,4)="{No ",LEFT(G3,4)="{SEC",LEFT(G3,4)="{Mas"),Val!B$20,IF(LEFT(G3,4)="{TEX",Val!B$21,IF(LEFT(G3,4)="{ALP",Val!B$20,IF(LEFT(G3,4)="{COU",Val!B$20))))))))))))))))) -> Privateublc | X3: Other | Y3: Single instalment | Z3: Private | AA3: No derivatives | AB3: commercial mortgages | AC3: Austrian Financial Market Authority (FMA) | AD3: N/A | AE3: Unconfirmed | AF3: N | AG3: AUSTRIA | AH3: SecRep B.V. | AI3: alternative mechanism | AJ3: Not Available
A4: NPU2 | B4: N2 | C4: STSS0 | D4: M | E4: Designated Entity LEI | F4: 5299002W4PL3XPN90376 | G4: {LEI} | H4: The LEI of the Designated Entity in accordance with Article 27(1) of Regulation (EU) 2017/2402 | I4: Only one LEI should be reported in Box to complete and it should be one of the originators or sponsors. This LEI should exist at the GLEIF database. The NRE code assigned to the STS notification reporting entity should be authorised for this Designated Entity LEI for the date at which the notification will be submitted as final. Field codes are highlighted in amber if the field is left blank or has errors in format. Note: The relevant competent authority of the Designated entity is requested during the registration process of that Designated Entity into the STS register system. | J4: First contact point | K4: Legal Entity Identifier (LEI) of the entity designated as the first contact point and name of the relevant competent authority | L4: Article 27(1) | M4: General Information | N4: Item 3.2 of Annex 19 of Commission Delegated Regulation (EU) 2019/980 | O4: =IF(LEFT(U4,6)="FORMAT","FMT",IF(AND(E4="Designated Entity LEI",ISBLANK(F4)=FALSE,ISNUMBER(SEARCH(F4,F$8))=FALSE,ISNUMBER(SEARCH(F4,F$11))=FALSE),"DE",IF(AND(C4="STSS1",OR(AND(E4="Instrument ISIN",ISBLANK(F4)=TRUE,ISBLANK(F5)=TRUE,ISBLANK(F6)=TRUE),AND(E4="Instrument code",ISBLANK(F4)=TRUE,ISBLANK(F3)=TRUE,ISBLANK(F$5)=TRUE),AND(E4="Instrument code type",ISBLANK(F4)=TRUE,ISBLANK(F5)=TRUE,ISBLANK(F3)=TRUE),AND(E4="Instrument code",ISBLANK(F4)=TRUE,ISBLANK(F3)=FALSE),AND(E4="Instrument code type",ISBLANK(F4)=FALSE,ISBLANK(F5)=TRUE))),"S1",IF(AND(C4="STSS8",OR(AND(OR(E4="Sponsor country",E4="Originator country",E4="SSPE country",E4="Original Lender country"),ISBLANK(F5)=FALSE,ISBLANK(F4)=FALSE),AND(RIGHT(E4,23)="(if multiple countries)",ISBLANK(F3)=FALSE,ISBLANK(F4)=FALSE),AND(OR(E4="Sponsor country",E4="Originator country",E4="Original Lender country"),ISBLANK(F5)=TRUE,ISBLANK(F4)=TRUE,ISBLANK(F3)=FALSE))),"S8",IF(AND(C4="STSS5",OR(AND(E4="Exemption on Prospectus",ISBLANK(F4)=TRUE,ISBLANK(F3)=TRUE,ISBLANK(F$23)=TRUE,F$3="Public"),AND(E4="Prospectus Country",ISBLANK(F4)=TRUE,ISBLANK(F5)=TRUE,ISBLANK(F6)=TRUE,F$3="Public"),AND(E4="Prospectus identifier ",ISBLANK(F4)=TRUE,ISBLANK(F5)=TRUE,ISBLANK(F3)=TRUE,F$3="Public"),AND(E4="Exemption on Prospectus",ISBLANK(F4)=FALSE,ISBLANK(F3)=FALSE,ISBLANK(F$23)=FALSE),AND(E4="Prospectus Country",ISBLANK(F4)=FALSE,ISBLANK(F5)=FALSE,ISBLANK(F6)=FALSE),AND(E4="Prospectus identifier ",ISBLANK(F4)=FALSE,ISBLANK(F3)=FALSE,ISBLANK(F3)=FALSE),AND(E4="Prospectus Country",ISBLANK(F4)=FALSE,ISBLANK(F5)=TRUE),AND(E4="Prospectus identifier",ISBLANK(F4)=FALSE,ISBLANK(F3)=TRUE),AND(E4="Prospectus Country",ISBLANK(F4)=TRUE,ISBLANK(F5)=FALSE),AND(E4="Prospectus identifier",ISBLANK(F4)=TRUE,ISBLANK(F3)=FALSE),AND(E4="Prospectus identifier",ISBLANK(F4)=FALSE,ISBLANK(F5)=FALSE,F$3="Public"),AND(E4="Prospectus Country",ISBLANK(F4)=FALSE,ISBLANK(F6)=FALSE,F$3="Public"))),"S5",IF(AND(C4="STSS6",E4="Securitisation Repository name",ISBLANK(F4)=TRUE,F$3="Public"),"S6",IF(AND(C4="STSS12",OR(AND(S4<>"",S4>TODAY()+1))),"S12",IF(AND(C4="STSS13",OR(AND(F$32="N",E$32="Authorised Third party flag",E4<>"Authorised Third party flag",ISBLANK(F4)=FALSE),AND(F$32="Y",E$32="Authorised Third party flag",E4<>"Authorised Third party flag",ISBLANK(F4)=TRUE))),"S13",IF(AND(C4="STSS14",OR(AND(E$32="Authorised Third party flag",E4<>"Authorised Third party flag",F$32="N",ISBLANK(F4)=FALSE),AND(E$32="Authorised Third party flag",E4<>"Authorised Third party flag",F$32="Y",ISBLANK(F4)=TRUE),AND(E$32="Authorised Third party flag",E4<>"Authorised Third party flag",F$32="N",ISBLANK(F4)=FALSE),AND(E$32="Authorised Third party flag",E4<>"Authorised Third party flag",F$32="Y",ISBLANK(F4)=TRUE))),"S14",IF(AND(C4="STSS15",OR(AND(E$32="Authorised Third party flag",F$32="N",E4<>"Authorised Third party flag",ISBLANK(F4)=FALSE),AND(E4<>"Authorised Third party flag",E$32="Authorised Third party flag",F$32="Y",ISBLANK(F4)=TRUE),AND(RIGHT(E4,11)="t Authority",E$32="Authorised Third party flag",F$32="N",ISBLANK(F4)=FALSE))),"S15",IF(AND(C4="STSS4",OR(AND(E4="Multiple STS notifications reason",ISBLANK(F4)=TRUE,F3="Y"),AND(E4="Multiple STS notifications comment",ISBLANK(F4)=TRUE,F$20="Y"),AND(E4="Multiple STS notifications reason",ISBLANK(F4)=FALSE,F3="N"),AND(E4="Multiple STS notifications comment",ISBLANK(F4)=FALSE,F$20="N"))),"Trust",IF(OR(AND(RIGHT(G4,7)="ed/N/A}",F4<>"Confirmed",F4<>"Unconfirmed",F4<>"N/A"),AND(G4="{Confirmed/Unconfirmed}",F4<>"Confirmed",F4<>"Unconfirmed")),"lst",IF(AND(RIGHT(G3,7)="ed/N/A}",C4<>"STSS61",C4<>"STSS23",F3<>"N/A",ISBLANK(F4)=TRUE,D4="C"),"CND",IF(AND(F4="Unconfirmed",C4<>"STSS32"),"UCF",IF(AND(C4="STSS21",E4="Subject to severe clawback",F4="Y"),"S21",IF(AND(C4="STSS23",OR(AND(E3="The seller is not the original lender flag",F4="N/A",F3="Y"),AND(E3="The seller is not the original lender flag",F4<>"N/A",F3="N"),AND(E$48="The seller is not the original lender flag",ISBLANK(F4)=TRUE,F$48="Y"))),"S23",IF(AND(C4="STSS32",OR(AND(E4="Payment exemption",F$77="Unconfirmed",OR(F4="N/A",F4="No exemption",ISBLANK(F4)=TRUE)),AND(E4="Payment exemption",ISBLANK(F4)=FALSE,F$77="Confirmed"))),"S32",IF(AND(C4="STSS18",OR(AND(E4="Credit granting criteria compliance confirmation",F4<>"N/A",F3="N"),AND(E4="Credit granting criteria compliance confirmation",OR(ISBLANK(F4)=TRUE,F4="N/A"),F3="Y"))),"S18",IF(AND(C4="STSS19",OR(AND(F4<>"N/A",F$37="N",E4="Credit granting criteria supervision confirmation"),AND(OR(ISBLANK(F4)=TRUE,F4="N/A"),F$37="Y",E4="Credit granting criteria supervision confirmation"))),"S19",IF(AND(C4="STSS29",OR(AND(E4="Residential Loan requirement confirmation",F4<>"N/A",F$29<>"residential mortgages"),AND(E4="Residential Loan requirement confirmation",F4="N/A",F$29="residential mortgages"))),"S29",IF(AND(C4="STSS34",OR(AND(D4="C",E4="Other options used comment",F3="Y",ISBLANK(F4)=TRUE),AND(E4="Other options used comment",F3="N",D4="C",ISBLANK(F4)=FALSE),AND(E4="No compliance with risk retention requirements",F4="Y"),AND(E4="Vertical slice",F4="N",F5="N",F6="N",F7="N",F8="N",F9="N",F10="N"),AND(E4="Seller's share",F4="N",F5="N",F6="N",F7="N",F8="N",F9="N",F$87="N"),AND(E4="Randomly-selected exposures kept on balance sheet",F4="N",F5="N",F6="N",F7="N",F8="N",F$87="N",F$88="N"),AND(E4="First loss tranche",F4="N",F5="N",F6="N",F7="N",F$87="N",F$88="N",F$89="N"),AND(E4="First loss exposure in each asset indicator",F4="N",F5="N",F6="N",F$87="N",F$88="N",F$89="N",F$90="N"),AND(E4="No compliance with risk retention requirements",F4="N",F5="N",F$87="N",F$88="N",F$89="N",F$90="N",F$91="N"),AND(E4="Other option indicator",F4="N",F$87="N",F$88="N",F$89="N",F$90="N",F$91="N",F$92="N"),AND(E4="Retaining entity LEI",ISBLANK(F4)=TRUE,ISBLANK(F5)=TRUE),AND(E4="Retaining entity name",ISBLANK(F4)=TRUE,ISBLANK(F3)=TRUE))),"S34",IF(AND(C4="STSS37",OR(AND(F4="N/A",E4="Common standards underwriting derivatives confirmation",F$97<>"No derivatives"),AND(F4<>"N/A",E4="Common standards underwriting derivatives confirmation",F$97="No derivatives"))),"S37",IF(AND(C4="STSS44",F4="N/A",E4="Credit quality deterioration trigger confirmation",F$113="Confirmed"),"S44",IF(OR(AND(C4="STSS46",F4<>"N/A",E4="Credit quality deterioration trigger confirmation",F$119="N/A"),AND(C4="STSS46",F4="N/A",E4="Credit quality deterioration trigger confirmation",F$119<>"N/A")),"S46",IF(OR(AND(C4="STSS47",F4<>"N/A",E4="Insolvency-related event confirmation",F$119="N/A"),AND(C4="STS47",F4="N/A",E4="Insolvency-related event confirmation",F$119<>"N/A")),"S47",IF(OR(AND(C4="STSS48",F4<>"N/A",E4="Pre-determined threshold value confirmation",F$119="N/A"),AND(C4="STSS48",F4="N/A",E4="Pre-determined threshold value confirmation",F$119<>"N/A")),"S48",IF(OR(AND(C4="STSS49",F4<>"N/A",E4="New underlying exposures failure generation confirmation",F$119="N/A"),AND(C4="STSS49",F4="N/A",E4="New underlying exposures failure generation confirmation",F$119<>"N/A")),"S49",IF(AND(C4="STSS61",OR(AND(OR(F$29="residential mortgages",F$29="auto loans/leases"),F4="Not available",E4="Environmental performance availability"),AND(OR(F$29="residential mortgages",F$29="auto loans/leases"),F4="N/A",E4="Environmental performance availability"),AND(F$29<>"residential mortgages",F$29<>"auto loans/leases",F4<>"N/A",E4="Environmental performance availability"),AND(E4="Environmental performance explanation",F3="Available",ISBLANK(F4)=TRUE))),"S61",1)))))))))))))))))))))))))))) -> 1 | P4: 20 | Q4: =IF(AND(E4="Last notification date",MONTH(TODAY())>9,DAY(TODAY())>9),YEAR(TODAY())&"-"&MONTH(TODAY())&"-"&DAY(TODAY()),IF(AND(E4="Last notification date",MONTH(TODAY())<9,DAY(TODAY())<10),YEAR(TODAY())&"-0"&MONTH(TODAY())&"-0"&DAY(TODAY()),IF(AND(E4="Last notification date",MONTH(TODAY())>9,DAY(TODAY())<10),YEAR(TODAY())&"-"&MONTH(TODAY())&"-0"&DAY(TODAY()),IF(AND(E4="Last notification date",MONTH(TODAY())<10,DAY(TODAY())>9),YEAR(TODAY())&"-0"&MONTH(TODAY())&"-"&DAY(TODAY()),IF(LEFT(G4,4)="{SEC","SEC ID",IF(LEFT(G4,4)="{DAT","DATE",IF(LEFT(G4,4)="{TEX",Val!B$21,IF(LEFT(G4,4)="{ALP",Val!B$20,IF(LEFT(G4,4)="{COU",Val!B$20,IF(OR(LEFT(G4,4)="{ISI",LEFT(G4,4)="{LEI"),Val!B$17,IF(OR(LEFT(G4,4)="{CA_",LEFT(G4,4)="{Mas",LEFT(G4,4)="{Y/N",LEFT(G4,4)="{No ",LEFT(G4,4)="{N/A",LEFT(G4,4)="{Con",LEFT(G4,4)="{LIS"),"LIST",""))))))))))) -> ;ABCDEFGHIJKLMNOPQRSTUVWXYZ0123456789 | R4: =LEN(F4) -> 20 | S4: =IF(ISERROR(DATEVALUE(F4))=TRUE,"",DATEVALUE(F4)) | T4: =IF(AND(D4="M",ISBLANK(F4)=TRUE),"EMPTY",IF(AND(D4<>"M",ISBLANK(F4)=TRUE),"BLANK","UNK")) -> UNK | U4: {=IF(AND(E4="Payment exemption explanation",ISBLANK(F4)=FALSE,F$77="Confirmed"),"FORMAT",IF(AND(E4="Historical Default and Loss Performance Data location",F$3="Public",ISBLANK(F4)=TRUE),"FORMAT",IF(AND(E3="Subject to severe clawback",F3="Y",ISBLANK(F4)=TRUE),"FORMAT",IF(AND(E3="Subject to severe clawback",F3="N",ISBLANK(F4)=FALSE),"FORMAT",IF(AND(OR(E4="Credit granting criteria supervision comment",E4="Credit granting criteria compliance comment"),ISBLANK(F4)=FALSE,OR(AND(F$34="N",E399="Originator (or original lender) is not a Credit institution"),AND(F$37="N",E$37="Originator (or original lender) is not a Credit institution"))),"FORMAT_S17",IF(AND(C4="STSS60",E4="Location of Liability cash flow model",ISBLANK(F4)=TRUE,F$3="Public"),"FORMAT_S60",IF(AND(C4="STSS58",E4="Historical Default and Loss Performance Data location",ISBLANK(F4)=TRUE,F$3="Public"),"FORMAT_S37",IF(AND(E4="Sponsor LEI",ISBLANK(F4)=TRUE,ISBLANK(F$8)=TRUE),"FORMAT_LEI",IF(AND(E4="Originator LEI",ISBLANK(F4)=TRUE,ISBLANK(F$11)=TRUE),"FORMAT_LEI",IF(OR(T4="EMPTY",P4+1<LEN(F4),AND(G3="{Confirmed/Unconfirmed/N/A}",S4="N/A",F3="N/A",F4<>"")),"FORMAT",IF(OR(AND(E4="Non-ABCP securitisation unique identifier",MID(F4,21,1)<>"N"),AND(E4="ABCP transaction unique identifier",MID(F4,21,1)<>"T"),AND(E4="ABCP programme unique identifier",MID(F4,21,1)<>"P")),"FORMAT_SEC_ID",IF(AND(E4="Underlying exposures classification",F4<>"residential mortgages",F4<>"commercial mortgages",F4<>"credit facilities provided to individuals for personal, family or household consumption purposes",F4<>"credit facilities, including loans and leases, provided to any type of enterprise or corporation",F4<>"auto loans/leases",F4<>"credit-card receivables",F4<>"trade receivables",F4<>"others"),"FORMAT_LIST",IF(AND(E4="Instrument code",LEN(F4)-LEN(SUBSTITUTE(F4,";",""))<>LEN(F3)-LEN(SUBSTITUTE(F3,";",""))),"FORMAT_;",IF(AND(E4="Sponsor country (if multiple countries)",LEN(F4)-LEN(SUBSTITUTE(F4,";",""))<>LEN(F$11)-LEN(SUBSTITUTE(F$11,";",""))),"FORMAT_;",IF(AND(E4="Sponsor country (if multiple countries)",ISBLANK(F4)=FALSE,LEN(F4)-LEN(SUBSTITUTE(F4,";",""))=0),"FORMAT_;",IF(AND(E4="Sponsor country (if multiple countries)",ISBLANK(F4)=TRUE,LEN(F$11)-LEN(SUBSTITUTE(F$11,";",""))<>0),"FORMAT_;",IF(AND(E4="Originator country (if multiple countries)",LEN(F4)-LEN(SUBSTITUTE(F4,";",""))<>0,ISBLANK(F4)=FALSE,LEN(F4)-LEN(SUBSTITUTE(F4,";",""))<>LEN(F$8)-LEN(SUBSTITUTE(F$8,";",""))),"FORMAT_;",IF(AND(E4="Originator country (if multiple countries)",ISBLANK(F4)=FALSE,LEN(F4)-LEN(SUBSTITUTE(F4,";",""))=0),"FORMAT_;",IF(AND(E4="Originator country (if multiple countries)",ISBLANK(F4)=TRUE,LEN(F$8)-LEN(SUBSTITUTE(F$8,";",""))<>0),"FORMAT_;",IF(AND(E4="Original lender country (if multiple countries)",ISBLANK(F4)=FALSE,LEN(F4)-LEN(SUBSTITUTE(F4,";",""))<>0,LEN(F4)-LEN(SUBSTITUTE(F4,";",""))<>LEN(F$14)-LEN(SUBSTITUTE(F$14,";",""))),"FORMAT_;",IF(AND(E4="Original lender country (if multiple countries)",ISBLANK(F4)=TRUE,LEN(F$14)-LEN(SUBSTITUTE(F$14,";",""))<>0),"FORMAT_;",IF(AND(E4="Original lender country (if multiple countries)",ISBLANK(F4)=FALSE,LEN(F4)-LEN(SUBSTITUTE(F4,";",""))=0),"FORMAT_;",IF(OR(AND(E4="Designated Entity LEI",LEN(F4)<>20),AND(G4="{LEI}",LEN(F4)<>0,LEN(F4)<20),AND(G4="{ISIN}",LEN(F4)<>0,LEN(F4)<12),AND(LEN(F4)<>20,E4="Retaining entity LEI",ISBLANK(F4)=FALSE),AND(E4="Instrument ISIN",ISBLANK(F4)=FALSE,LEN(F4)>0,LEN(F4)<11),AND(D4="M",LEFT(G4,4)="{DAT",LEN(F4)<>10)),"FORMAT_LEN",IF(OR(AND(F4<>"",LEFT(G4,4)<>"{TEX",ISNUMBER(SUMPRODUCT(FIND(MID(F4,ROW(INDIRECT("1:"&LEN(F4))),1),W4)))=FALSE),AND(F4<>"",LEFT(G4,4)<>"{TEX",ISERROR(SUMPRODUCT(SEARCH(MID(F4,ROW(INDIRECT("1:"&LEN(TRIM(F4)))),1)," "&W4&CHAR(10)&"""")))=TRUE)),"FORMAT_CHAR",IF(LEFT(G4,4)="{TEX","TEXT","UNK")))))))))))))))))))))))))} -> UNK | V4: {=IF(OR(LEN(F4)>P4+1),FALSE,IF(LEFT(G4,5)="{TEXT",TRUE,IF(AND(ISBLANK(F4)=FALSE,G4="{DATE_TEXT-YYYY-MM-DD}",LEN(F4)<>10),FALSE,IF(AND(ISBLANK(F4)=FALSE,ISNUMBER(SUMPRODUCT(SEARCH(MID(F4,ROW(INDIRECT("1:"&LEN(TRIM(F4)))),1)," "&W4&CHAR(10)&"""")))=FALSE),FALSE,TRUE))))} -> TRUE | W4: =IF(G4="{Applicable/N/A}","N/Aplicable",IF(E4="Designated Entity LEI","ABCDEFGHIJKLMNOPQRSTUVWXYZ0123456789",IF(OR(G4="{ISIN}",G4="{LEI}"),";ABCDEFGHIJKLMNOPQRSTUVWXYZ0123456789",IF(G4="{Master Trust/Other}","Master TuOhe",IF(E4="Securitisation type","Privateublc",IF(LEFT(G4,4)="{CA_",Val!B$21,IF(G4="{COUNTRY_EU_LIST}"," ;abcdefghijklmnopqrstuvwxyzABCDEFGHIJKLMNOPQRSTUVWXYZ0123456789",IF(OR(G4="{NOTIFICATION ID}",G4="{SECURITISATION ID}"),Val!B$15,IF(G4="{COUNTRY_EU}"," ;abcdefghijklmnopqrstuvwxyzABCDEFGHIJKLMNOPQRSTUVWXYZ",IF(G4="{Confirmed/Unconfirmed}","ConfirmedUnc",IF(G4="{Confirmed/Unconfirmed/N/A}","Confirmed/UncNA",IF(LEFT(G4,4)="{DAT","0123456789-",IF(LEFT(G4,4)="{Y/N","YN",IF(OR(LEFT(G4,4)="{N/A",LEFT(G4,4)="{LIS",LEFT(G4,4)="{No ",LEFT(G4,4)="{SEC",LEFT(G4,4)="{Mas"),Val!B$20,IF(LEFT(G4,4)="{TEX",Val!B$21,IF(LEFT(G4,4)="{ALP",Val!B$20,IF(LEFT(G4,4)="{COU",Val!B$20))))))))))))))))) -> ABCDEFGHIJKLMNOPQRSTUVWXYZ0123456789 | Y4: Less than one year maturity | AA4: Exemption on derivatives | AB4: credit facilities provided to individuals for personal, family or household consumption purposes | AC4: Belgium – (to be provided) | AE4: N/A | AG4: BELGIUM | AH4: Not available | AJ4: N/A
A5: NPU3 | B5: N3 | C5: STSS1 | D5: C | E5: Instrument ISIN | F5: XS1419661035;XS1419662272;XS1419662603; XS1452378745;XS2328054981; XS1417318588 | G5: {ISIN} | H5: Where available, the international security identification code(s) (ISIN). | I5: ISIN (12-character alphanumeric code) should be reported in Box to complete where available. Where multiple ISIN codes are reported, ";" separator should be used without any space. The same ISIN should not be reported multiple times. Field codes are highlighted in amber where: - the field has errors in format; or - the fields STSS1-ISIN, STSS1-Instrument code type and STSS1- Instrument code are left blank | J5: Instrument identification code | K5: Where available, the international security identification code (ISIN) or codes. If no ISIN is available, then any other unique securities code assigned to this securitisation. | O5: =IF(LEFT(U5,6)="FORMAT","FMT",IF(AND(E5="Designated Entity LEI",ISBLANK(F5)=FALSE,ISNUMBER(SEARCH(F5,F$8))=FALSE,ISNUMBER(SEARCH(F5,F$11))=FALSE),"DE",IF(AND(C5="STSS1",OR(AND(E5="Instrument ISIN",ISBLANK(F5)=TRUE,ISBLANK(F6)=TRUE,ISBLANK(F7)=TRUE),AND(E5="Instrument code",ISBLANK(F5)=TRUE,ISBLANK(F4)=TRUE,ISBLANK(F$5)=TRUE),AND(E5="Instrument code type",ISBLANK(F5)=TRUE,ISBLANK(F6)=TRUE,ISBLANK(F4)=TRUE),AND(E5="Instrument code",ISBLANK(F5)=TRUE,ISBLANK(F4)=FALSE),AND(E5="Instrument code type",ISBLANK(F5)=FALSE,ISBLANK(F6)=TRUE))),"S1",IF(AND(C5="STSS8",OR(AND(OR(E5="Sponsor country",E5="Originator country",E5="SSPE country",E5="Original Lender country"),ISBLANK(F6)=FALSE,ISBLANK(F5)=FALSE),AND(RIGHT(E5,23)="(if multiple countries)",ISBLANK(F4)=FALSE,ISBLANK(F5)=FALSE),AND(OR(E5="Sponsor country",E5="Originator country",E5="Original Lender country"),ISBLANK(F6)=TRUE,ISBLANK(F5)=TRUE,ISBLANK(F4)=FALSE))),"S8",IF(AND(C5="STSS5",OR(AND(E5="Exemption on Prospectus",ISBLANK(F5)=TRUE,ISBLANK(F4)=TRUE,ISBLANK(F$23)=TRUE,F$3="Public"),AND(E5="Prospectus Country",ISBLANK(F5)=TRUE,ISBLANK(F6)=TRUE,ISBLANK(F7)=TRUE,F$3="Public"),AND(E5="Prospectus identifier ",ISBLANK(F5)=TRUE,ISBLANK(F6)=TRUE,ISBLANK(F4)=TRUE,F$3="Public"),AND(E5="Exemption on Prospectus",ISBLANK(F5)=FALSE,ISBLANK(F4)=FALSE,ISBLANK(F$23)=FALSE),AND(E5="Prospectus Country",ISBLANK(F5)=FALSE,ISBLANK(F6)=FALSE,ISBLANK(F7)=FALSE),AND(E5="Prospectus identifier ",ISBLANK(F5)=FALSE,ISBLANK(F4)=FALSE,ISBLANK(F4)=FALSE),AND(E5="Prospectus Country",ISBLANK(F5)=FALSE,ISBLANK(F6)=TRUE),AND(E5="Prospectus identifier",ISBLANK(F5)=FALSE,ISBLANK(F4)=TRUE),AND(E5="Prospectus Country",ISBLANK(F5)=TRUE,ISBLANK(F6)=FALSE),AND(E5="Prospectus identifier",ISBLANK(F5)=TRUE,ISBLANK(F4)=FALSE),AND(E5="Prospectus identifier",ISBLANK(F5)=FALSE,ISBLANK(F6)=FALSE,F$3="Public"),AND(E5="Prospectus Country",ISBLANK(F5)=FALSE,ISBLANK(F7)=FALSE,F$3="Public"))),"S5",IF(AND(C5="STSS6",E5="Securitisation Repository name",ISBLANK(F5)=TRUE,F$3="Public"),"S6",IF(AND(C5="STSS12",OR(AND(S5<>"",S5>TODAY()+1))),"S12",IF(AND(C5="STSS13",OR(AND(F$32="N",E$32="Authorised Third party flag",E5<>"Authorised Third party flag",ISBLANK(F5)=FALSE),AND(F$32="Y",E$32="Authorised Third party flag",E5<>"Authorised Third party flag",ISBLANK(F5)=TRUE))),"S13",IF(AND(C5="STSS14",OR(AND(E$32="Authorised Third party flag",E5<>"Authorised Third party flag",F$32="N",ISBLANK(F5)=FALSE),AND(E$32="Authorised Third party flag",E5<>"Authorised Third party flag",F$32="Y",ISBLANK(F5)=TRUE),AND(E$32="Authorised Third party flag",E5<>"Authorised Third party flag",F$32="N",ISBLANK(F5)=FALSE),AND(E$32="Authorised Third party flag",E5<>"Authorised Third party flag",F$32="Y",ISBLANK(F5)=TRUE))),"S14",IF(AND(C5="STSS15",OR(AND(E$32="Authorised Third party flag",F$32="N",E5<>"Authorised Third party flag",ISBLANK(F5)=FALSE),AND(E5<>"Authorised Third party flag",E$32="Authorised Third party flag",F$32="Y",ISBLANK(F5)=TRUE),AND(RIGHT(E5,11)="t Authority",E$32="Authorised Third party flag",F$32="N",ISBLANK(F5)=FALSE))),"S15",IF(AND(C5="STSS4",OR(AND(E5="Multiple STS notifications reason",ISBLANK(F5)=TRUE,F4="Y"),AND(E5="Multiple STS notifications comment",ISBLANK(F5)=TRUE,F$20="Y"),AND(E5="Multiple STS notifications reason",ISBLANK(F5)=FALSE,F4="N"),AND(E5="Multiple STS notifications comment",ISBLANK(F5)=FALSE,F$20="N"))),"Trust",IF(OR(AND(RIGHT(G5,7)="ed/N/A}",F5<>"Confirmed",F5<>"Unconfirmed",F5<>"N/A"),AND(G5="{Confirmed/Unconfirmed}",F5<>"Confirmed",F5<>"Unconfirmed")),"lst",IF(AND(RIGHT(G4,7)="ed/N/A}",C5<>"STSS61",C5<>"STSS23",F4<>"N/A",ISBLANK(F5)=TRUE,D5="C"),"CND",IF(AND(F5="Unconfirmed",C5<>"STSS32"),"UCF",IF(AND(C5="STSS21",E5="Subject to severe clawback",F5="Y"),"S21",IF(AND(C5="STSS23",OR(AND(E4="The seller is not the original lender flag",F5="N/A",F4="Y"),AND(E4="The seller is not the original lender flag",F5<>"N/A",F4="N"),AND(E$48="The seller is not the original lender flag",ISBLANK(F5)=TRUE,F$48="Y"))),"S23",IF(AND(C5="STSS32",OR(AND(E5="Payment exemption",F$77="Unconfirmed",OR(F5="N/A",F5="No exemption",ISBLANK(F5)=TRUE)),AND(E5="Payment exemption",ISBLANK(F5)=FALSE,F$77="Confirmed"))),"S32",IF(AND(C5="STSS18",OR(AND(E5="Credit granting criteria compliance confirmation",F5<>"N/A",F4="N"),AND(E5="Credit granting criteria compliance confirmation",OR(ISBLANK(F5)=TRUE,F5="N/A"),F4="Y"))),"S18",IF(AND(C5="STSS19",OR(AND(F5<>"N/A",F$37="N",E5="Credit granting criteria supervision confirmation"),AND(OR(ISBLANK(F5)=TRUE,F5="N/A"),F$37="Y",E5="Credit granting criteria supervision confirmation"))),"S19",IF(AND(C5="STSS29",OR(AND(E5="Residential Loan requirement confirmation",F5<>"N/A",F$29<>"residential mortgages"),AND(E5="Residential Loan requirement confirmation",F5="N/A",F$29="residential mortgages"))),"S29",IF(AND(C5="STSS34",OR(AND(D5="C",E5="Other options used comment",F4="Y",ISBLANK(F5)=TRUE),AND(E5="Other options used comment",F4="N",D5="C",ISBLANK(F5)=FALSE),AND(E5="No compliance with risk retention requirements",F5="Y"),AND(E5="Vertical slice",F5="N",F6="N",F7="N",F8="N",F9="N",F10="N",F11="N"),AND(E5="Seller's share",F5="N",F6="N",F7="N",F8="N",F9="N",F10="N",F$87="N"),AND(E5="Randomly-selected exposures kept on balance sheet",F5="N",F6="N",F7="N",F8="N",F9="N",F$87="N",F$88="N"),AND(E5="First loss tranche",F5="N",F6="N",F7="N",F8="N",F$87="N",F$88="N",F$89="N"),AND(E5="First loss exposure in each asset indicator",F5="N",F6="N",F7="N",F$87="N",F$88="N",F$89="N",F$90="N"),AND(E5="No compliance with risk retention requirements",F5="N",F6="N",F$87="N",F$88="N",F$89="N",F$90="N",F$91="N"),AND(E5="Other option indicator",F5="N",F$87="N",F$88="N",F$89="N",F$90="N",F$91="N",F$92="N"),AND(E5="Retaining entity LEI",ISBLANK(F5)=TRUE,ISBLANK(F6)=TRUE),AND(E5="Retaining entity name",ISBLANK(F5)=TRUE,ISBLANK(F4)=TRUE))),"S34",IF(AND(C5="STSS37",OR(AND(F5="N/A",E5="Common standards underwriting derivatives confirmation",F$97<>"No derivatives"),AND(F5<>"N/A",E5="Common standards underwriting derivatives confirmation",F$97="No derivatives"))),"S37",IF(AND(C5="STSS44",F5="N/A",E5="Credit quality deterioration trigger confirmation",F$113="Confirmed"),"S44",IF(OR(AND(C5="STSS46",F5<>"N/A",E5="Credit quality deterioration trigger confirmation",F$119="N/A"),AND(C5="STSS46",F5="N/A",E5="Credit quality deterioration trigger confirmation",F$119<>"N/A")),"S46",IF(OR(AND(C5="STSS47",F5<>"N/A",E5="Insolvency-related event confirmation",F$119="N/A"),AND(C5="STS47",F5="N/A",E5="Insolvency-related event confirmation",F$119<>"N/A")),"S47",IF(OR(AND(C5="STSS48",F5<>"N/A",E5="Pre-determined threshold value confirmation",F$119="N/A"),AND(C5="STSS48",F5="N/A",E5="Pre-determined threshold value confirmation",F$119<>"N/A")),"S48",IF(OR(AND(C5="STSS49",F5<>"N/A",E5="New underlying exposures failure generation confirmation",F$119="N/A"),AND(C5="STSS49",F5="N/A",E5="New underlying exposures failure generation confirmation",F$119<>"N/A")),"S49",IF(AND(C5="STSS61",OR(AND(OR(F$29="residential mortgages",F$29="auto loans/leases"),F5="Not available",E5="Environmental performance availability"),AND(OR(F$29="residential mortgages",F$29="auto loans/leases"),F5="N/A",E5="Environmental performance availability"),AND(F$29<>"residential mortgages",F$29<>"auto loans/leases",F5<>"N/A",E5="Environmental performance availability"),AND(E5="Environmental performance explanation",F4="Available",ISBLANK(F5)=TRUE))),"S61",1)))))))))))))))))))))))))))) -> FMT | P5: 10000 | Q5: =IF(AND(E5="Last notification date",MONTH(TODAY())>9,DAY(TODAY())>9),YEAR(TODAY())&"-"&MONTH(TODAY())&"-"&DAY(TODAY()),IF(AND(E5="Last notification date",MONTH(TODAY())<9,DAY(TODAY())<10),YEAR(TODAY())&"-0"&MONTH(TODAY())&"-0"&DAY(TODAY()),IF(AND(E5="Last notification date",MONTH(TODAY())>9,DAY(TODAY())<10),YEAR(TODAY())&"-"&MONTH(TODAY())&"-0"&DAY(TODAY()),IF(AND(E5="Last notification date",MONTH(TODAY())<10,DAY(TODAY())>9),YEAR(TODAY())&"-0"&MONTH(TODAY())&"-"&DAY(TODAY()),IF(LEFT(G5,4)="{SEC","SEC ID",IF(LEFT(G5,4)="{DAT","DATE",IF(LEFT(G5,4)="{TEX",Val!B$21,IF(LEFT(G5,4)="{ALP",Val!B$20,IF(LEFT(G5,4)="{COU",Val!B$20,IF(OR(LEFT(G5,4)="{ISI",LEFT(G5,4)="{LEI"),Val!B$17,IF(OR(LEFT(G5,4)="{CA_",LEFT(G5,4)="{Mas",LEFT(G5,4)="{Y/N",LEFT(G5,4)="{No ",LEFT(G5,4)="{N/A",LEFT(G5,4)="{Con",LEFT(G5,4)="{LIS"),"LIST",""))))))))))) -> ;ABCDEFGHIJKLMNOPQRSTUVWXYZ0123456789 | R5: =LEN(F5) -> 79 | S5: =IF(ISERROR(DATEVALUE(F5))=TRUE,"",DATEVALUE(F5)) | T5: =IF(AND(D5="M",ISBLANK(F5)=TRUE),"EMPTY",IF(AND(D5<>"M",ISBLANK(F5)=TRUE),"BLANK","UNK")) -> UNK | U5: {=IF(AND(E5="Payment exemption explanation",ISBLANK(F5)=FALSE,F$77="Confirmed"),"FORMAT",IF(AND(E5="Historical Default and Loss Performance Data location",F$3="Public",ISBLANK(F5)=TRUE),"FORMAT",IF(AND(E4="Subject to severe clawback",F4="Y",ISBLANK(F5)=TRUE),"FORMAT",IF(AND(E4="Subject to severe clawback",F4="N",ISBLANK(F5)=FALSE),"FORMAT",IF(AND(OR(E5="Credit granting criteria supervision comment",E5="Credit granting criteria compliance comment"),ISBLANK(F5)=FALSE,OR(AND(F$34="N",E400="Originator (or original lender) is not a Credit institution"),AND(F$37="N",E$37="Originator (or original lender) is not a Credit institution"))),"FORMAT_S17",IF(AND(C5="STSS60",E5="Location of Liability cash flow model",ISBLANK(F5)=TRUE,F$3="Public"),"FORMAT_S60",IF(AND(C5="STSS58",E5="Historical Default and Loss Performance Data location",ISBLANK(F5)=TRUE,F$3="Public"),"FORMAT_S37",IF(AND(E5="Sponsor LEI",ISBLANK(F5)=TRUE,ISBLANK(F$8)=TRUE),"FORMAT_LEI",IF(AND(E5="Originator LEI",ISBLANK(F5)=TRUE,ISBLANK(F$11)=TRUE),"FORMAT_LEI",IF(OR(T5="EMPTY",P5+1<LEN(F5),AND(G4="{Confirmed/Unconfirmed/N/A}",S5="N/A",F4="N/A",F5<>"")),"FORMAT",IF(OR(AND(E5="Non-ABCP securitisation unique identifier",MID(F5,21,1)<>"N"),AND(E5="ABCP transaction unique identifier",MID(F5,21,1)<>"T"),AND(E5="ABCP programme unique identifier",MID(F5,21,1)<>"P")),"FORMAT_SEC_ID",IF(AND(E5="Underlying exposures classification",F5<>"residential mortgages",F5<>"commercial mortgages",F5<>"credit facilities provided to individuals for personal, family or household consumption purposes",F5<>"credit facilities, including loans and leases, provided to any type of enterprise or corporation",F5<>"auto loans/leases",F5<>"credit-card receivables",F5<>"trade receivables",F5<>"others"),"FORMAT_LIST",IF(AND(E5="Instrument code",LEN(F5)-LEN(SUBSTITUTE(F5,";",""))<>LEN(F4)-LEN(SUBSTITUTE(F4,";",""))),"FORMAT_;",IF(AND(E5="Sponsor country (if multiple countries)",LEN(F5)-LEN(SUBSTITUTE(F5,";",""))<>LEN(F$11)-LEN(SUBSTITUTE(F$11,";",""))),"FORMAT_;",IF(AND(E5="Sponsor country (if multiple countries)",ISBLANK(F5)=FALSE,LEN(F5)-LEN(SUBSTITUTE(F5,";",""))=0),"FORMAT_;",IF(AND(E5="Sponsor country (if multiple countries)",ISBLANK(F5)=TRUE,LEN(F$11)-LEN(SUBSTITUTE(F$11,";",""))<>0),"FORMAT_;",IF(AND(E5="Originator country (if multiple countries)",LEN(F5)-LEN(SUBSTITUTE(F5,";",""))<>0,ISBLANK(F5)=FALSE,LEN(F5)-LEN(SUBSTITUTE(F5,";",""))<>LEN(F$8)-LEN(SUBSTITUTE(F$8,";",""))),"FORMAT_;",IF(AND(E5="Originator country (if multiple countries)",ISBLANK(F5)=FALSE,LEN(F5)-LEN(SUBSTITUTE(F5,";",""))=0),"FORMAT_;",IF(AND(E5="Originator country (if multiple countries)",ISBLANK(F5)=TRUE,LEN(F$8)-LEN(SUBSTITUTE(F$8,";",""))<>0),"FORMAT_;",IF(AND(E5="Original lender country (if multiple countries)",ISBLANK(F5)=FALSE,LEN(F5)-LEN(SUBSTITUTE(F5,";",""))<>0,LEN(F5)-LEN(SUBSTITUTE(F5,";",""))<>LEN(F$14)-LEN(SUBSTITUTE(F$14,";",""))),"FORMAT_;",IF(AND(E5="Original lender country (if multiple countries)",ISBLANK(F5)=TRUE,LEN(F$14)-LEN(SUBSTITUTE(F$14,";",""))<>0),"FORMAT_;",IF(AND(E5="Original lender country (if multiple countries)",ISBLANK(F5)=FALSE,LEN(F5)-LEN(SUBSTITUTE(F5,";",""))=0),"FORMAT_;",IF(OR(AND(E5="Designated Entity LEI",LEN(F5)<>20),AND(G5="{LEI}",LEN(F5)<>0,LEN(F5)<20),AND(G5="{ISIN}",LEN(F5)<>0,LEN(F5)<12),AND(LEN(F5)<>20,E5="Retaining entity LEI",ISBLANK(F5)=FALSE),AND(E5="Instrument ISIN",ISBLANK(F5)=FALSE,LEN(F5)>0,LEN(F5)<11),AND(D5="M",LEFT(G5,4)="{DAT",LEN(F5)<>10)),"FORMAT_LEN",IF(OR(AND(F5<>"",LEFT(G5,4)<>"{TEX",ISNUMBER(SUMPRODUCT(FIND(MID(F5,ROW(INDIRECT("1:"&LEN(F5))),1),W5)))=FALSE),AND(F5<>"",LEFT(G5,4)<>"{TEX",ISERROR(SUMPRODUCT(SEARCH(MID(F5,ROW(INDIRECT("1:"&LEN(TRIM(F5)))),1)," "&W5&CHAR(10)&"""")))=TRUE)),"FORMAT_CHAR",IF(LEFT(G5,4)="{TEX","TEXT","UNK")))))))))))))))))))))))))} -> FORMAT_CHAR | V5: {=IF(OR(LEN(F5)>P5+1),FALSE,IF(LEFT(G5,5)="{TEXT",TRUE,IF(AND(ISBLANK(F5)=FALSE,G5="{DATE_TEXT-YYYY-MM-DD}",LEN(F5)<>10),FALSE,IF(AND(ISBLANK(F5)=FALSE,ISNUMBER(SUMPRODUCT(SEARCH(MID(F5,ROW(INDIRECT("1:"&LEN(TRIM(F5)))),1)," "&W5&CHAR(10)&"""")))=FALSE),FALSE,TRUE))))} -> TRUE | W5: =IF(G5="{Applicable/N/A}","N/Aplicable",IF(E5="Designated Entity LEI","ABCDEFGHIJKLMNOPQRSTUVWXYZ0123456789",IF(OR(G5="{ISIN}",G5="{LEI}"),";ABCDEFGHIJKLMNOPQRSTUVWXYZ0123456789",IF(G5="{Master Trust/Other}","Master TuOhe",IF(E5="Securitisation type","Privateublc",IF(LEFT(G5,4)="{CA_",Val!B$21,IF(G5="{COUNTRY_EU_LIST}"," ;abcdefghijklmnopqrstuvwxyzABCDEFGHIJKLMNOPQRSTUVWXYZ0123456789",IF(OR(G5="{NOTIFICATION ID}",G5="{SECURITISATION ID}"),Val!B$15,IF(G5="{COUNTRY_EU}"," ;abcdefghijklmnopqrstuvwxyzABCDEFGHIJKLMNOPQRSTUVWXYZ",IF(G5="{Confirmed/Unconfirmed}","ConfirmedUnc",IF(G5="{Confirmed/Unconfirmed/N/A}","Confirmed/UncNA",IF(LEFT(G5,4)="{DAT","0123456789-",IF(LEFT(G5,4)="{Y/N","YN",IF(OR(LEFT(G5,4)="{N/A",LEFT(G5,4)="{LIS",LEFT(G5,4)="{No ",LEFT(G5,4)="{SEC",LEFT(G5,4)="{Mas"),Val!B$20,IF(LEFT(G5,4)="{TEX",Val!B$21,IF(LEFT(G5,4)="{ALP",Val!B$20,IF(LEFT(G5,4)="{COU",Val!B$20))))))))))))))))) -> ;ABCDEFGHIJKLMNOPQRSTUVWXYZ0123456789 | Y5: N/A | AB5: credit facilities, including loans and leases, provided to any type of enterprise or corporation | AC5: Bulgarian National Bank (BNB) | AG5: BULGARIA
